Workbook

Sheet anno X
A1: Problema: calcolare negli anni la percentuale degli scatti di anzianità di competenza per ciascun dipendente avendo come dati: la data assunzione e l'anno in esame
A2: ipotesi: anzianità scatta ogni due anni
A3: se anni anzianità => 2 allora
B4: -> negli anni pari conta i mesi anno di competenza (es. da giugno a dic) calcola percentuale anno - > quindi aggiungi [(anni anzianità / 2) - 1] alla percentuale
B5: -> negli anni dispari -> calcola [(anni anzianità - 1) / 2] espresso in percentuale
A6: se anni anzianità < 2 allora
B7: > la percentuale è zero
A9: TABELLA MASTER
B10: data assunzione | C10: LIVELLO | H10: % SCATTO | I10: IMPORTO SCATTO | J10: COMPETENZA MEDIA MENSILE ANNO IN ESAME
B11: 42522 | C11: B2 | H11: =IF($B$31-YEAR(B11)>=2,IF(MOD($B$31-YEAR(B11),2)=0,(12-MONTH(B11)+1)/12+(($B$31-YEAR(B11))/2-1),($B$31-YEAR(B11)-1)/2),0) -> 2 | I11: =VLOOKUP(C11,parametri!$A$2:$B$10,2,FALSE) -> 16.2 | J11: =I11*H11 -> 32.4
B12: 43697 | C12: B3 | H12: =IF($B$31-YEAR(B12)>=2,IF(MOD($B$31-YEAR(B12),2)=0,(12-MONTH(B12)+1)/12+(($B$31-YEAR(B12))/2-1),($B$31-YEAR(B12)-1)/2),0) -> 0.41666667 | I12: =VLOOKUP(C12,parametri!$A$2:$B$10,2,FALSE) -> 17.3 | J12: =I12*H12 -> 7.2083333
B13: 42826 | C13: C1 | H13: =IF($B$31-YEAR(B13)>=2,IF(MOD($B$31-YEAR(B13),2)=0,(12-MONTH(B13)+1)/12+(($B$31-YEAR(B13))/2-1),($B$31-YEAR(B13)-1)/2),0) -> 1.75 | I13: =VLOOKUP(C13,parametri!$A$2:$B$10,2,FALSE) -> 18.4 | J13: =I13*H13 -> 32.2
B14: 42583 | C14: B2 | H14: =IF($B$31-YEAR(B14)>=2,IF(MOD($B$31-YEAR(B14),2)=0,(12-MONTH(B14)+1)/12+(($B$31-YEAR(B14))/2-1),($B$31-YEAR(B14)-1)/2),0) -> 2 | I14: =VLOOKUP(C14,parametri!$A$2:$B$10,2,FALSE) -> 16.2 | J14: =I14*H14 -> 32.4
B15: 42979 | C15: B3 | H15: =IF($B$31-YEAR(B15)>=2,IF(MOD($B$31-YEAR(B15),2)=0,(12-MONTH(B15)+1)/12+(($B$31-YEAR(B15))/2-1),($B$31-YEAR(B15)-1)/2),0) -> 1.3333333 | I15: =VLOOKUP(C15,parametri!$A$2:$B$10,2,FALSE) -> 17.3 | J15: =I15*H15 -> 23.066667
B16: 43276 | C16: C1 | H16: =IF($B$31-YEAR(B16)>=2,IF(MOD($B$31-YEAR(B16),2)=0,(12-MONTH(B16)+1)/12+(($B$31-YEAR(B16))/2-1),($B$31-YEAR(B16)-1)/2),0) -> 1 | I16: =VLOOKUP(C16,parametri!$A$2:$B$10,2,FALSE) -> 18.4 | J16: =I16*H16 -> 18.4
B17: 43621 | C17: C2 | H17: =IF($B$31-YEAR(B17)>=2,IF(MOD($B$31-YEAR(B17),2)=0,(12-MONTH(B17)+1)/12+(($B$31-YEAR(B17))/2-1),($B$31-YEAR(B17)-1)/2),0) -> 0.58333333 | I17: =VLOOKUP(C17,parametri!$A$2:$B$10,2,FALSE) -> 19.5 | J17: =I17*H17 -> 11.375
B18: 42890 | C18: C3 | H18: =IF($B$31-YEAR(B18)>=2,IF(MOD($B$31-YEAR(B18),2)=0,(12-MONTH(B18)+1)/12+(($B$31-YEAR(B18))/2-1),($B$31-YEAR(B18)-1)/2),0) -> 1.5833333 | I18: =VLOOKUP(C18,parametri!$A$2:$B$10,2,FALSE) -> 20.6 | J18: =I18*H18 -> 32.616667
B19: 42526 | C19: B2 | H19: =IF($B$31-YEAR(B19)>=2,IF(MOD($B$31-YEAR(B19),2)=0,(12-MONTH(B19)+1)/12+(($B$31-YEAR(B19))/2-1),($B$31-YEAR(B19)-1)/2),0) -> 2 | I19: =VLOOKUP(C19,parametri!$A$2:$B$10,2,FALSE) -> 16.2 | J19: =I19*H19 -> 32.4
B20: 42948 | C20: B3 | H20: =IF($B$31-YEAR(B20)>=2,IF(MOD($B$31-YEAR(B20),2)=0,(12-MONTH(B20)+1)/12+(($B$31-YEAR(B20))/2-1),($B$31-YEAR(B20)-1)/2),0) -> 1.4166667 | I20: =VLOOKUP(C20,parametri!$A$2:$B$10,2,FALSE) -> 17.3 | J20: =I20*H20 -> 24.508333
B21: 42979 | C21: C1 | H21: =IF($B$31-YEAR(B21)>=2,IF(MOD($B$31-YEAR(B21),2)=0,(12-MONTH(B21)+1)/12+(($B$31-YEAR(B21))/2-1),($B$31-YEAR(B21)-1)/2),0) -> 1.3333333 | I21: =VLOOKUP(C21,parametri!$A$2:$B$10,2,FALSE) -> 18.4 | J21: =I21*H21 -> 24.533333
B22: 43009 | C22: C2 | H22: =IF($B$31-YEAR(B22)>=2,IF(MOD($B$31-YEAR(B22),2)=0,(12-MONTH(B22)+1)/12+(($B$31-YEAR(B22))/2-1),($B$31-YEAR(B22)-1)/2),0) -> 1.25 | I22: =VLOOKUP(C22,parametri!$A$2:$B$10,2,FALSE) -> 19.5 | J22: =I22*H22 -> 24.375
... B24: 43988 | C24: D1 | H24: =IF($B$31-YEAR(B24)>=2,IF(MOD($B$31-YEAR(B24),2)=0,(12-MONTH(B24)+1)/12+(($B$31-YEAR(B24))/2-1),($B$31-YEAR(B24)-1)/2),0) -> 0 | I24: =VLOOKUP(C24,parametri!$A$2:$B$10,2,FALSE) -> 21.7 | J24: =I24*H24 -> 0
A26: FINE TABELLA MASTER
A28: nota: esplicitato il parametro nella formula in modo che per ogni anno in esame sia sufficiente modificare il parametro inserito all'interno del foglio di lavoro
A30: PARAMETRO:
A31: ANNO | B31: 2021

Sheet formula
A1: Problema: calcolare il numero degli scatti di anzianità maturati di competenza dell'esercizio
A3: ipotesi: l'anzianità inizia a maturare dopo M anni di servizio (primo scatto) - successivamente scatta dopo ogni N anni di servizio - Numero massimo di scatti = K
A4: se anni anzianità => M allora
B5: -> parti dall'anno M - nell'anno M e negli anni multipli di N conta i mesi anno di competenza (es. da giugno a dic) calcola percentuale anno - > quindi aggiungi [(anni anzianità - M + N / N) - 1] alla percentuale
B6: -> parti dall'anno M - negli anni NON multipli di N -> calcola [(anni anzianità - M + N - 1) / N] e tronca la parte decimale
B7: -> se il numero di scatti è superiore a K -> considera come n. scatti il valore K
A8: se anni anzianità < M allora
B9: > la percentuale è zero
A11: TABELLA ESEMPIO SVILUPPO SCATTI
B12: data assunzione | C12: LIVELLO | E12: ="% SCATTO "&B32 -> % SCATTO 2020 | F12: ="% SCATTO "&C32 -> % SCATTO 2021 | G12: ="% SCATTO "&D32 -> % SCATTO 2022 | H12: ="% SCATTO "&E32 -> % SCATTO 2023 | I12: ="% SCATTO "&F32 -> % SCATTO 2024 | J12: ="% SCATTO "&G32 -> % SCATTO 2025 | K12: ="% SCATTO "&H32 -> % SCATTO 2026 | L12: ="% SCATTO "&I32 -> % SCATTO 2027 | ... N12: ="% SCATTO "&K32 -> % SCATTO 2029 | P12: IMPORTO SCATTO LIVELLO | Q12: ="COMPETENZA "&K32 -> COMPETENZA 2029
B13: 42522 | C13: B2 | E13: =MIN(IF(B$32-YEAR($B13)>=$B$34,IF(MOD(B$32-YEAR($B13)-$B$34+$B$33,$B$33)=0,(12-MONTH($B13)+1)/12+((B$32-YEAR($B13)-$B$34+$B$33)/$B$33-1),TRUNC((B$32-YEAR($B13)-$B$34+$B$33-1)/$B$33)),0),$B$35) -> 1.5833333 | F13: =MIN(IF(C$32-YEAR($B13)>=$B$34,IF(MOD(C$32-YEAR($B13)-$B$34+$B$33,$B$33)=0,(12-MONTH($B13)+1)/12+((C$32-YEAR($B13)-$B$34+$B$33)/$B$33-1),TRUNC((C$32-YEAR($B13)-$B$34+$B$33-1)/$B$33)),0),$B$35) -> 2 | G13: =MIN(IF(D$32-YEAR($B13)>=$B$34,IF(MOD(D$32-YEAR($B13)-$B$34+$B$33,$B$33)=0,(12-MONTH($B13)+1)/12+((D$32-YEAR($B13)-$B$34+$B$33)/$B$33-1),TRUNC((D$32-YEAR($B13)-$B$34+$B$33-1)/$B$33)),0),$B$35) -> 2.5833333 | H13: =MIN(IF(E$32-YEAR($B13)>=$B$34,IF(MOD(E$32-YEAR($B13)-$B$34+$B$33,$B$33)=0,(12-MONTH($B13)+1)/12+((E$32-YEAR($B13)-$B$34+$B$33)/$B$33-1),TRUNC((E$32-YEAR($B13)-$B$34+$B$33-1)/$B$33)),0),$B$35) -> 3 | I13: =MIN(IF(F$32-YEAR($B13)>=$B$34,IF(MOD(F$32-YEAR($B13)-$B$34+$B$33,$B$33)=0,(12-MONTH($B13)+1)/12+((F$32-YEAR($B13)-$B$34+$B$33)/$B$33-1),TRUNC((F$32-YEAR($B13)-$B$34+$B$33-1)/$B$33)),0),$B$35) -> 3.5833333 | J13: =MIN(IF(G$32-YEAR($B13)>=$B$34,IF(MOD(G$32-YEAR($B13)-$B$34+$B$33,$B$33)=0,(12-MONTH($B13)+1)/12+((G$32-YEAR($B13)-$B$34+$B$33)/$B$33-1),TRUNC((G$32-YEAR($B13)-$B$34+$B$33-1)/$B$33)),0),$B$35) -> 4 | K13: =MIN(IF(H$32-YEAR($B13)>=$B$34,IF(MOD(H$32-YEAR($B13)-$B$34+$B$33,$B$33)=0,(12-MONTH($B13)+1)/12+((H$32-YEAR($B13)-$B$34+$B$33)/$B$33-1),TRUNC((H$32-YEAR($B13)-$B$34+$B$33-1)/$B$33)),0),$B$35) -> 4.5833333 | L13: =MIN(IF(I$32-YEAR($B13)>=$B$34,IF(MOD(I$32-YEAR($B13)-$B$34+$B$33,$B$33)=0,(12-MONTH($B13)+1)/12+((I$32-YEAR($B13)-$B$34+$B$33)/$B$33-1),TRUNC((I$32-YEAR($B13)-$B$34+$B$33-1)/$B$33)),0),$B$35) -> 5 | ... N13: =MIN(IF(K$32-YEAR($B13)>=$B$34,IF(MOD(K$32-YEAR($B13)-$B$34+$B$33,$B$33)=0,(12-MONTH($B13)+1)/12+((K$32-YEAR($B13)-$B$34+$B$33)/$B$33-1),TRUNC((K$32-YEAR($B13)-$B$34+$B$33-1)/$B$33)),0),$B$35) -> 5 | P13: =VLOOKUP(C13,parametri!$A$2:$B$10,2,FALSE) -> 16.2 | Q13: =P13*N13 -> 81
B14: 42887 | C14: B3 | E14: =MIN(IF(B$32-YEAR($B14)>=$B$34,IF(MOD(B$32-YEAR($B14)-$B$34+$B$33,$B$33)=0,(12-MONTH($B14)+1)/12+((B$32-YEAR($B14)-$B$34+$B$33)/$B$33-1),TRUNC((B$32-YEAR($B14)-$B$34+$B$33-1)/$B$33)),0),$B$35) -> 1 | F14: =MIN(IF(C$32-YEAR($B14)>=$B$34,IF(MOD(C$32-YEAR($B14)-$B$34+$B$33,$B$33)=0,(12-MONTH($B14)+1)/12+((C$32-YEAR($B14)-$B$34+$B$33)/$B$33-1),TRUNC((C$32-YEAR($B14)-$B$34+$B$33-1)/$B$33)),0),$B$35) -> 1.5833333 | G14: =MIN(IF(D$32-YEAR($B14)>=$B$34,IF(MOD(D$32-YEAR($B14)-$B$34+$B$33,$B$33)=0,(12-MONTH($B14)+1)/12+((D$32-YEAR($B14)-$B$34+$B$33)/$B$33-1),TRUNC((D$32-YEAR($B14)-$B$34+$B$33-1)/$B$33)),0),$B$35) -> 2 | H14: =MIN(IF(E$32-YEAR($B14)>=$B$34,IF(MOD(E$32-YEAR($B14)-$B$34+$B$33,$B$33)=0,(12-MONTH($B14)+1)/12+((E$32-YEAR($B14)-$B$34+$B$33)/$B$33-1),TRUNC((E$32-YEAR($B14)-$B$34+$B$33-1)/$B$33)),0),$B$35) -> 2.5833333 | I14: =MIN(IF(F$32-YEAR($B14)>=$B$34,IF(MOD(F$32-YEAR($B14)-$B$34+$B$33,$B$33)=0,(12-MONTH($B14)+1)/12+((F$32-YEAR($B14)-$B$34+$B$33)/$B$33-1),TRUNC((F$32-YEAR($B14)-$B$34+$B$33-1)/$B$33)),0),$B$35) -> 3 | J14: =MIN(IF(G$32-YEAR($B14)>=$B$34,IF(MOD(G$32-YEAR($B14)-$B$34+$B$33,$B$33)=0,(12-MONTH($B14)+1)/12+((G$32-YEAR($B14)-$B$34+$B$33)/$B$33-1),TRUNC((G$32-YEAR($B14)-$B$34+$B$33-1)/$B$33)),0),$B$35) -> 3.5833333 | K14: =MIN(IF(H$32-YEAR($B14)>=$B$34,IF(MOD(H$32-YEAR($B14)-$B$34+$B$33,$B$33)=0,(12-MONTH($B14)+1)/12+((H$32-YEAR($B14)-$B$34+$B$33)/$B$33-1),TRUNC((H$32-YEAR($B14)-$B$34+$B$33-1)/$B$33)),0),$B$35) -> 4 | L14: =MIN(IF(I$32-YEAR($B14)>=$B$34,IF(MOD(I$32-YEAR($B14)-$B$34+$B$33,$B$33)=0,(12-MONTH($B14)+1)/12+((I$32-YEAR($B14)-$B$34+$B$33)/$B$33-1),TRUNC((I$32-YEAR($B14)-$B$34+$B$33-1)/$B$33)),0),$B$35) -> 4.5833333 | ... N14: =MIN(IF(K$32-YEAR($B14)>=$B$34,IF(MOD(K$32-YEAR($B14)-$B$34+$B$33,$B$33)=0,(12-MONTH($B14)+1)/12+((K$32-YEAR($B14)-$B$34+$B$33)/$B$33-1),TRUNC((K$32-YEAR($B14)-$B$34+$B$33-1)/$B$33)),0),$B$35) -> 5 | P14: =VLOOKUP(C14,parametri!$A$2:$B$10,2,FALSE) -> 17.3 | Q14: =P14*N14 -> 86.5
B15: 43252 | C15: C1 | E15: =MIN(IF(B$32-YEAR($B15)>=$B$34,IF(MOD(B$32-YEAR($B15)-$B$34+$B$33,$B$33)=0,(12-MONTH($B15)+1)/12+((B$32-YEAR($B15)-$B$34+$B$33)/$B$33-1),TRUNC((B$32-YEAR($B15)-$B$34+$B$33-1)/$B$33)),0),$B$35) -> 0.58333333 | F15: =MIN(IF(C$32-YEAR($B15)>=$B$34,IF(MOD(C$32-YEAR($B15)-$B$34+$B$33,$B$33)=0,(12-MONTH($B15)+1)/12+((C$32-YEAR($B15)-$B$34+$B$33)/$B$33-1),TRUNC((C$32-YEAR($B15)-$B$34+$B$33-1)/$B$33)),0),$B$35) -> 1 | G15: =MIN(IF(D$32-YEAR($B15)>=$B$34,IF(MOD(D$32-YEAR($B15)-$B$34+$B$33,$B$33)=0,(12-MONTH($B15)+1)/12+((D$32-YEAR($B15)-$B$34+$B$33)/$B$33-1),TRUNC((D$32-YEAR($B15)-$B$34+$B$33-1)/$B$33)),0),$B$35) -> 1.5833333 | H15: =MIN(IF(E$32-YEAR($B15)>=$B$34,IF(MOD(E$32-YEAR($B15)-$B$34+$B$33,$B$33)=0,(12-MONTH($B15)+1)/12+((E$32-YEAR($B15)-$B$34+$B$33)/$B$33-1),TRUNC((E$32-YEAR($B15)-$B$34+$B$33-1)/$B$33)),0),$B$35) -> 2 | I15: =MIN(IF(F$32-YEAR($B15)>=$B$34,IF(MOD(F$32-YEAR($B15)-$B$34+$B$33,$B$33)=0,(12-MONTH($B15)+1)/12+((F$32-YEAR($B15)-$B$34+$B$33)/$B$33-1),TRUNC((F$32-YEAR($B15)-$B$34+$B$33-1)/$B$33)),0),$B$35) -> 2.5833333 | J15: =MIN(IF(G$32-YEAR($B15)>=$B$34,IF(MOD(G$32-YEAR($B15)-$B$34+$B$33,$B$33)=0,(12-MONTH($B15)+1)/12+((G$32-YEAR($B15)-$B$34+$B$33)/$B$33-1),TRUNC((G$32-YEAR($B15)-$B$34+$B$33-1)/$B$33)),0),$B$35) -> 3 | K15: =MIN(IF(H$32-YEAR($B15)>=$B$34,IF(MOD(H$32-YEAR($B15)-$B$34+$B$33,$B$33)=0,(12-MONTH($B15)+1)/12+((H$32-YEAR($B15)-$B$34+$B$33)/$B$33-1),TRUNC((H$32-YEAR($B15)-$B$34+$B$33-1)/$B$33)),0),$B$35) -> 3.5833333 | L15: =MIN(IF(I$32-YEAR($B15)>=$B$34,IF(MOD(I$32-YEAR($B15)-$B$34+$B$33,$B$33)=0,(12-MONTH($B15)+1)/12+((I$32-YEAR($B15)-$B$34+$B$33)/$B$33-1),TRUNC((I$32-YEAR($B15)-$B$34+$B$33-1)/$B$33)),0),$B$35) -> 4 | ... N15: =MIN(IF(K$32-YEAR($B15)>=$B$34,IF(MOD(K$32-YEAR($B15)-$B$34+$B$33,$B$33)=0,(12-MONTH($B15)+1)/12+((K$32-YEAR($B15)-$B$34+$B$33)/$B$33-1),TRUNC((K$32-YEAR($B15)-$B$34+$B$33-1)/$B$33)),0),$B$35) -> 5 | P15: =VLOOKUP(C15,parametri!$A$2:$B$10,2,FALSE) -> 18.4 | Q15: =P15*N15 -> 92
B16: 43617 | C16: B2 | E16: =MIN(IF(B$32-YEAR($B16)>=$B$34,IF(MOD(B$32-YEAR($B16)-$B$34+$B$33,$B$33)=0,(12-MONTH($B16)+1)/12+((B$32-YEAR($B16)-$B$34+$B$33)/$B$33-1),TRUNC((B$32-YEAR($B16)-$B$34+$B$33-1)/$B$33)),0),$B$35) -> 0 | F16: =MIN(IF(C$32-YEAR($B16)>=$B$34,IF(MOD(C$32-YEAR($B16)-$B$34+$B$33,$B$33)=0,(12-MONTH($B16)+1)/12+((C$32-YEAR($B16)-$B$34+$B$33)/$B$33-1),TRUNC((C$32-YEAR($B16)-$B$34+$B$33-1)/$B$33)),0),$B$35) -> 0.58333333 | G16: =MIN(IF(D$32-YEAR($B16)>=$B$34,IF(MOD(D$32-YEAR($B16)-$B$34+$B$33,$B$33)=0,(12-MONTH($B16)+1)/12+((D$32-YEAR($B16)-$B$34+$B$33)/$B$33-1),TRUNC((D$32-YEAR($B16)-$B$34+$B$33-1)/$B$33)),0),$B$35) -> 1 | H16: =MIN(IF(E$32-YEAR($B16)>=$B$34,IF(MOD(E$32-YEAR($B16)-$B$34+$B$33,$B$33)=0,(12-MONTH($B16)+1)/12+((E$32-YEAR($B16)-$B$34+$B$33)/$B$33-1),TRUNC((E$32-YEAR($B16)-$B$34+$B$33-1)/$B$33)),0),$B$35) -> 1.5833333 | I16: =MIN(IF(F$32-YEAR($B16)>=$B$34,IF(MOD(F$32-YEAR($B16)-$B$34+$B$33,$B$33)=0,(12-MONTH($B16)+1)/12+((F$32-YEAR($B16)-$B$34+$B$33)/$B$33-1),TRUNC((F$32-YEAR($B16)-$B$34+$B$33-1)/$B$33)),0),$B$35) -> 2 | J16: =MIN(IF(G$32-YEAR($B16)>=$B$34,IF(MOD(G$32-YEAR($B16)-$B$34+$B$33,$B$33)=0,(12-MONTH($B16)+1)/12+((G$32-YEAR($B16)-$B$34+$B$33)/$B$33-1),TRUNC((G$32-YEAR($B16)-$B$34+$B$33-1)/$B$33)),0),$B$35) -> 2.5833333 | K16: =MIN(IF(H$32-YEAR($B16)>=$B$34,IF(MOD(H$32-YEAR($B16)-$B$34+$B$33,$B$33)=0,(12-MONTH($B16)+1)/12+((H$32-YEAR($B16)-$B$34+$B$33)/$B$33-1),TRUNC((H$32-YEAR($B16)-$B$34+$B$33-1)/$B$33)),0),$B$35) -> 3 | L16: =MIN(IF(I$32-YEAR($B16)>=$B$34,IF(MOD(I$32-YEAR($B16)-$B$34+$B$33,$B$33)=0,(12-MONTH($B16)+1)/12+((I$32-YEAR($B16)-$B$34+$B$33)/$B$33-1),TRUNC((I$32-YEAR($B16)-$B$34+$B$33-1)/$B$33)),0),$B$35) -> 3.5833333 | ... N16: =MIN(IF(K$32-YEAR($B16)>=$B$34,IF(MOD(K$32-YEAR($B16)-$B$34+$B$33,$B$33)=0,(12-MONTH($B16)+1)/12+((K$32-YEAR($B16)-$B$34+$B$33)/$B$33-1),TRUNC((K$32-YEAR($B16)-$B$34+$B$33-1)/$B$33)),0),$B$35) -> 4.5833333 | P16: =VLOOKUP(C16,parametri!$A$2:$B$10,2,FALSE) -> 16.2 | Q16: =P16*N16 -> 74.25
B17: 43983 | C17: B3 | E17: =MIN(IF(B$32-YEAR($B17)>=$B$34,IF(MOD(B$32-YEAR($B17)-$B$34+$B$33,$B$33)=0,(12-MONTH($B17)+1)/12+((B$32-YEAR($B17)-$B$34+$B$33)/$B$33-1),TRUNC((B$32-YEAR($B17)-$B$34+$B$33-1)/$B$33)),0),$B$35) -> 0 | F17: =MIN(IF(C$32-YEAR($B17)>=$B$34,IF(MOD(C$32-YEAR($B17)-$B$34+$B$33,$B$33)=0,(12-MONTH($B17)+1)/12+((C$32-YEAR($B17)-$B$34+$B$33)/$B$33-1),TRUNC((C$32-YEAR($B17)-$B$34+$B$33-1)/$B$33)),0),$B$35) -> 0 | G17: =MIN(IF(D$32-YEAR($B17)>=$B$34,IF(MOD(D$32-YEAR($B17)-$B$34+$B$33,$B$33)=0,(12-MONTH($B17)+1)/12+((D$32-YEAR($B17)-$B$34+$B$33)/$B$33-1),TRUNC((D$32-YEAR($B17)-$B$34+$B$33-1)/$B$33)),0),$B$35) -> 0.58333333 | H17: =MIN(IF(E$32-YEAR($B17)>=$B$34,IF(MOD(E$32-YEAR($B17)-$B$34+$B$33,$B$33)=0,(12-MONTH($B17)+1)/12+((E$32-YEAR($B17)-$B$34+$B$33)/$B$33-1),TRUNC((E$32-YEAR($B17)-$B$34+$B$33-1)/$B$33)),0),$B$35) -> 1 | I17: =MIN(IF(F$32-YEAR($B17)>=$B$34,IF(MOD(F$32-YEAR($B17)-$B$34+$B$33,$B$33)=0,(12-MONTH($B17)+1)/12+((F$32-YEAR($B17)-$B$34+$B$33)/$B$33-1),TRUNC((F$32-YEAR($B17)-$B$34+$B$33-1)/$B$33)),0),$B$35) -> 1.5833333 | J17: =MIN(IF(G$32-YEAR($B17)>=$B$34,IF(MOD(G$32-YEAR($B17)-$B$34+$B$33,$B$33)=0,(12-MONTH($B17)+1)/12+((G$32-YEAR($B17)-$B$34+$B$33)/$B$33-1),TRUNC((G$32-YEAR($B17)-$B$34+$B$33-1)/$B$33)),0),$B$35) -> 2 | K17: =MIN(IF(H$32-YEAR($B17)>=$B$34,IF(MOD(H$32-YEAR($B17)-$B$34+$B$33,$B$33)=0,(12-MONTH($B17)+1)/12+((H$32-YEAR($B17)-$B$34+$B$33)/$B$33-1),TRUNC((H$32-YEAR($B17)-$B$34+$B$33-1)/$B$33)),0),$B$35) -> 2.5833333 | L17: =MIN(IF(I$32-YEAR($B17)>=$B$34,IF(MOD(I$32-YEAR($B17)-$B$34+$B$33,$B$33)=0,(12-MONTH($B17)+1)/12+((I$32-YEAR($B17)-$B$34+$B$33)/$B$33-1),TRUNC((I$32-YEAR($B17)-$B$34+$B$33-1)/$B$33)),0),$B$35) -> 3 | ... N17: =MIN(IF(K$32-YEAR($B17)>=$B$34,IF(MOD(K$32-YEAR($B17)-$B$34+$B$33,$B$33)=0,(12-MONTH($B17)+1)/12+((K$32-YEAR($B17)-$B$34+$B$33)/$B$33-1),TRUNC((K$32-YEAR($B17)-$B$34+$B$33-1)/$B$33)),0),$B$35) -> 4 | P17: =VLOOKUP(C17,parametri!$A$2:$B$10,2,FALSE) -> 17.3 | Q17: =P17*N17 -> 69.2
B18: 44348 | C18: C1 | E18: =MIN(IF(B$32-YEAR($B18)>=$B$34,IF(MOD(B$32-YEAR($B18)-$B$34+$B$33,$B$33)=0,(12-MONTH($B18)+1)/12+((B$32-YEAR($B18)-$B$34+$B$33)/$B$33-1),TRUNC((B$32-YEAR($B18)-$B$34+$B$33-1)/$B$33)),0),$B$35) -> 0 | F18: =MIN(IF(C$32-YEAR($B18)>=$B$34,IF(MOD(C$32-YEAR($B18)-$B$34+$B$33,$B$33)=0,(12-MONTH($B18)+1)/12+((C$32-YEAR($B18)-$B$34+$B$33)/$B$33-1),TRUNC((C$32-YEAR($B18)-$B$34+$B$33-1)/$B$33)),0),$B$35) -> 0 | G18: =MIN(IF(D$32-YEAR($B18)>=$B$34,IF(MOD(D$32-YEAR($B18)-$B$34+$B$33,$B$33)=0,(12-MONTH($B18)+1)/12+((D$32-YEAR($B18)-$B$34+$B$33)/$B$33-1),TRUNC((D$32-YEAR($B18)-$B$34+$B$33-1)/$B$33)),0),$B$35) -> 0 | H18: =MIN(IF(E$32-YEAR($B18)>=$B$34,IF(MOD(E$32-YEAR($B18)-$B$34+$B$33,$B$33)=0,(12-MONTH($B18)+1)/12+((E$32-YEAR($B18)-$B$34+$B$33)/$B$33-1),TRUNC((E$32-YEAR($B18)-$B$34+$B$33-1)/$B$33)),0),$B$35) -> 0.58333333 | I18: =MIN(IF(F$32-YEAR($B18)>=$B$34,IF(MOD(F$32-YEAR($B18)-$B$34+$B$33,$B$33)=0,(12-MONTH($B18)+1)/12+((F$32-YEAR($B18)-$B$34+$B$33)/$B$33-1),TRUNC((F$32-YEAR($B18)-$B$34+$B$33-1)/$B$33)),0),$B$35) -> 1 | J18: =MIN(IF(G$32-YEAR($B18)>=$B$34,IF(MOD(G$32-YEAR($B18)-$B$34+$B$33,$B$33)=0,(12-MONTH($B18)+1)/12+((G$32-YEAR($B18)-$B$34+$B$33)/$B$33-1),TRUNC((G$32-YEAR($B18)-$B$34+$B$33-1)/$B$33)),0),$B$35) -> 1.5833333 | K18: =MIN(IF(H$32-YEAR($B18)>=$B$34,IF(MOD(H$32-YEAR($B18)-$B$34+$B$33,$B$33)=0,(12-MONTH($B18)+1)/12+((H$32-YEAR($B18)-$B$34+$B$33)/$B$33-1),TRUNC((H$32-YEAR($B18)-$B$34+$B$33-1)/$B$33)),0),$B$35) -> 2 | L18: =MIN(IF(I$32-YEAR($B18)>=$B$34,IF(MOD(I$32-YEAR($B18)-$B$34+$B$33,$B$33)=0,(12-MONTH($B18)+1)/12+((I$32-YEAR($B18)-$B$34+$B$33)/$B$33-1),TRUNC((I$32-YEAR($B18)-$B$34+$B$33-1)/$B$33)),0),$B$35) -> 2.5833333 | ... N18: =MIN(IF(K$32-YEAR($B18)>=$B$34,IF(MOD(K$32-YEAR($B18)-$B$34+$B$33,$B$33)=0,(12-MONTH($B18)+1)/12+((K$32-YEAR($B18)-$B$34+$B$33)/$B$33-1),TRUNC((K$32-YEAR($B18)-$B$34+$B$33-1)/$B$33)),0),$B$35) -> 3.5833333 | P18: =VLOOKUP(C18,parametri!$A$2:$B$10,2,FALSE) -> 18.4 | Q18: =P18*N18 -> 65.933333
B19: 44713 | C19: C2 | E19: =MIN(IF(B$32-YEAR($B19)>=$B$34,IF(MOD(B$32-YEAR($B19)-$B$34+$B$33,$B$33)=0,(12-MONTH($B19)+1)/12+((B$32-YEAR($B19)-$B$34+$B$33)/$B$33-1),TRUNC((B$32-YEAR($B19)-$B$34+$B$33-1)/$B$33)),0),$B$35) -> 0 | F19: =MIN(IF(C$32-YEAR($B19)>=$B$34,IF(MOD(C$32-YEAR($B19)-$B$34+$B$33,$B$33)=0,(12-MONTH($B19)+1)/12+((C$32-YEAR($B19)-$B$34+$B$33)/$B$33-1),TRUNC((C$32-YEAR($B19)-$B$34+$B$33-1)/$B$33)),0),$B$35) -> 0 | G19: =MIN(IF(D$32-YEAR($B19)>=$B$34,IF(MOD(D$32-YEAR($B19)-$B$34+$B$33,$B$33)=0,(12-MONTH($B19)+1)/12+((D$32-YEAR($B19)-$B$34+$B$33)/$B$33-1),TRUNC((D$32-YEAR($B19)-$B$34+$B$33-1)/$B$33)),0),$B$35) -> 0 | H19: =MIN(IF(E$32-YEAR($B19)>=$B$34,IF(MOD(E$32-YEAR($B19)-$B$34+$B$33,$B$33)=0,(12-MONTH($B19)+1)/12+((E$32-YEAR($B19)-$B$34+$B$33)/$B$33-1),TRUNC((E$32-YEAR($B19)-$B$34+$B$33-1)/$B$33)),0),$B$35) -> 0 | I19: =MIN(IF(F$32-YEAR($B19)>=$B$34,IF(MOD(F$32-YEAR($B19)-$B$34+$B$33,$B$33)=0,(12-MONTH($B19)+1)/12+((F$32-YEAR($B19)-$B$34+$B$33)/$B$33-1),TRUNC((F$32-YEAR($B19)-$B$34+$B$33-1)/$B$33)),0),$B$35) -> 0.58333333 | J19: =MIN(IF(G$32-YEAR($B19)>=$B$34,IF(MOD(G$32-YEAR($B19)-$B$34+$B$33,$B$33)=0,(12-MONTH($B19)+1)/12+((G$32-YEAR($B19)-$B$34+$B$33)/$B$33-1),TRUNC((G$32-YEAR($B19)-$B$34+$B$33-1)/$B$33)),0),$B$35) -> 1 | K19: =MIN(IF(H$32-YEAR($B19)>=$B$34,IF(MOD(H$32-YEAR($B19)-$B$34+$B$33,$B$33)=0,(12-MONTH($B19)+1)/12+((H$32-YEAR($B19)-$B$34+$B$33)/$B$33-1),TRUNC((H$32-YEAR($B19)-$B$34+$B$33-1)/$B$33)),0),$B$35) -> 1.5833333 | L19: =MIN(IF(I$32-YEAR($B19)>=$B$34,IF(MOD(I$32-YEAR($B19)-$B$34+$B$33,$B$33)=0,(12-MONTH($B19)+1)/12+((I$32-YEAR($B19)-$B$34+$B$33)/$B$33-1),TRUNC((I$32-YEAR($B19)-$B$34+$B$33-1)/$B$33)),0),$B$35) -> 2 | ... N19: =MIN(IF(K$32-YEAR($B19)>=$B$34,IF(MOD(K$32-YEAR($B19)-$B$34+$B$33,$B$33)=0,(12-MONTH($B19)+1)/12+((K$32-YEAR($B19)-$B$34+$B$33)/$B$33-1),TRUNC((K$32-YEAR($B19)-$B$34+$B$33-1)/$B$33)),0),$B$35) -> 3 | P19: =VLOOKUP(C19,parametri!$A$2:$B$10,2,FALSE) -> 19.5 | Q19: =P19*N19 -> 58.5
B20: 45078 | C20: C3 | E20: =MIN(IF(B$32-YEAR($B20)>=$B$34,IF(MOD(B$32-YEAR($B20)-$B$34+$B$33,$B$33)=0,(12-MONTH($B20)+1)/12+((B$32-YEAR($B20)-$B$34+$B$33)/$B$33-1),TRUNC((B$32-YEAR($B20)-$B$34+$B$33-1)/$B$33)),0),$B$35) -> 0 | F20: =MIN(IF(C$32-YEAR($B20)>=$B$34,IF(MOD(C$32-YEAR($B20)-$B$34+$B$33,$B$33)=0,(12-MONTH($B20)+1)/12+((C$32-YEAR($B20)-$B$34+$B$33)/$B$33-1),TRUNC((C$32-YEAR($B20)-$B$34+$B$33-1)/$B$33)),0),$B$35) -> 0 | G20: =MIN(IF(D$32-YEAR($B20)>=$B$34,IF(MOD(D$32-YEAR($B20)-$B$34+$B$33,$B$33)=0,(12-MONTH($B20)+1)/12+((D$32-YEAR($B20)-$B$34+$B$33)/$B$33-1),TRUNC((D$32-YEAR($B20)-$B$34+$B$33-1)/$B$33)),0),$B$35) -> 0 | H20: =MIN(IF(E$32-YEAR($B20)>=$B$34,IF(MOD(E$32-YEAR($B20)-$B$34+$B$33,$B$33)=0,(12-MONTH($B20)+1)/12+((E$32-YEAR($B20)-$B$34+$B$33)/$B$33-1),TRUNC((E$32-YEAR($B20)-$B$34+$B$33-1)/$B$33)),0),$B$35) -> 0 | I20: =MIN(IF(F$32-YEAR($B20)>=$B$34,IF(MOD(F$32-YEAR($B20)-$B$34+$B$33,$B$33)=0,(12-MONTH($B20)+1)/12+((F$32-YEAR($B20)-$B$34+$B$33)/$B$33-1),TRUNC((F$32-YEAR($B20)-$B$34+$B$33-1)/$B$33)),0),$B$35) -> 0 | J20: =MIN(IF(G$32-YEAR($B20)>=$B$34,IF(MOD(G$32-YEAR($B20)-$B$34+$B$33,$B$33)=0,(12-MONTH($B20)+1)/12+((G$32-YEAR($B20)-$B$34+$B$33)/$B$33-1),TRUNC((G$32-YEAR($B20)-$B$34+$B$33-1)/$B$33)),0),$B$35) -> 0.58333333 | K20: =MIN(IF(H$32-YEAR($B20)>=$B$34,IF(MOD(H$32-YEAR($B20)-$B$34+$B$33,$B$33)=0,(12-MONTH($B20)+1)/12+((H$32-YEAR($B20)-$B$34+$B$33)/$B$33-1),TRUNC((H$32-YEAR($B20)-$B$34+$B$33-1)/$B$33)),0),$B$35) -> 1 | L20: =MIN(IF(I$32-YEAR($B20)>=$B$34,IF(MOD(I$32-YEAR($B20)-$B$34+$B$33,$B$33)=0,(12-MONTH($B20)+1)/12+((I$32-YEAR($B20)-$B$34+$B$33)/$B$33-1),TRUNC((I$32-YEAR($B20)-$B$34+$B$33-1)/$B$33)),0),$B$35) -> 1.5833333 | ... N20: =MIN(IF(K$32-YEAR($B20)>=$B$34,IF(MOD(K$32-YEAR($B20)-$B$34+$B$33,$B$33)=0,(12-MONTH($B20)+1)/12+((K$32-YEAR($B20)-$B$34+$B$33)/$B$33-1),TRUNC((K$32-YEAR($B20)-$B$34+$B$33-1)/$B$33)),0),$B$35) -> 2.5833333 | P20: =VLOOKUP(C20,parametri!$A$2:$B$10,2,FALSE) -> 20.6 | Q20: =P20*N20 -> 53.216667
B21: 45444 | C21: B2 | E21: =MIN(IF(B$32-YEAR($B21)>=$B$34,IF(MOD(B$32-YEAR($B21)-$B$34+$B$33,$B$33)=0,(12-MONTH($B21)+1)/12+((B$32-YEAR($B21)-$B$34+$B$33)/$B$33-1),TRUNC((B$32-YEAR($B21)-$B$34+$B$33-1)/$B$33)),0),$B$35) -> 0 | F21: =MIN(IF(C$32-YEAR($B21)>=$B$34,IF(MOD(C$32-YEAR($B21)-$B$34+$B$33,$B$33)=0,(12-MONTH($B21)+1)/12+((C$32-YEAR($B21)-$B$34+$B$33)/$B$33-1),TRUNC((C$32-YEAR($B21)-$B$34+$B$33-1)/$B$33)),0),$B$35) -> 0 | G21: =MIN(IF(D$32-YEAR($B21)>=$B$34,IF(MOD(D$32-YEAR($B21)-$B$34+$B$33,$B$33)=0,(12-MONTH($B21)+1)/12+((D$32-YEAR($B21)-$B$34+$B$33)/$B$33-1),TRUNC((D$32-YEAR($B21)-$B$34+$B$33-1)/$B$33)),0),$B$35) -> 0 | H21: =MIN(IF(E$32-YEAR($B21)>=$B$34,IF(MOD(E$32-YEAR($B21)-$B$34+$B$33,$B$33)=0,(12-MONTH($B21)+1)/12+((E$32-YEAR($B21)-$B$34+$B$33)/$B$33-1),TRUNC((E$32-YEAR($B21)-$B$34+$B$33-1)/$B$33)),0),$B$35) -> 0 | I21: =MIN(IF(F$32-YEAR($B21)>=$B$34,IF(MOD(F$32-YEAR($B21)-$B$34+$B$33,$B$33)=0,(12-MONTH($B21)+1)/12+((F$32-YEAR($B21)-$B$34+$B$33)/$B$33-1),TRUNC((F$32-YEAR($B21)-$B$34+$B$33-1)/$B$33)),0),$B$35) -> 0 | J21: =MIN(IF(G$32-YEAR($B21)>=$B$34,IF(MOD(G$32-YEAR($B21)-$B$34+$B$33,$B$33)=0,(12-MONTH($B21)+1)/12+((G$32-YEAR($B21)-$B$34+$B$33)/$B$33-1),TRUNC((G$32-YEAR($B21)-$B$34+$B$33-1)/$B$33)),0),$B$35) -> 0 | K21: =MIN(IF(H$32-YEAR($B21)>=$B$34,IF(MOD(H$32-YEAR($B21)-$B$34+$B$33,$B$33)=0,(12-MONTH($B21)+1)/12+((H$32-YEAR($B21)-$B$34+$B$33)/$B$33-1),TRUNC((H$32-YEAR($B21)-$B$34+$B$33-1)/$B$33)),0),$B$35) -> 0.58333333 | L21: =MIN(IF(I$32-YEAR($B21)>=$B$34,IF(MOD(I$32-YEAR($B21)-$B$34+$B$33,$B$33)=0,(12-MONTH($B21)+1)/12+((I$32-YEAR($B21)-$B$34+$B$33)/$B$33-1),TRUNC((I$32-YEAR($B21)-$B$34+$B$33-1)/$B$33)),0),$B$35) -> 1 | ... N21: =MIN(IF(K$32-YEAR($B21)>=$B$34,IF(MOD(K$32-YEAR($B21)-$B$34+$B$33,$B$33)=0,(12-MONTH($B21)+1)/12+((K$32-YEAR($B21)-$B$34+$B$33)/$B$33-1),TRUNC((K$32-YEAR($B21)-$B$34+$B$33-1)/$B$33)),0),$B$35) -> 2 | P21: =VLOOKUP(C21,parametri!$A$2:$B$10,2,FALSE) -> 16.2 | Q21: =P21*N21 -> 32.4
B22: 45809 | C22: B3 | E22: =MIN(IF(B$32-YEAR($B22)>=$B$34,IF(MOD(B$32-YEAR($B22)-$B$34+$B$33,$B$33)=0,(12-MONTH($B22)+1)/12+((B$32-YEAR($B22)-$B$34+$B$33)/$B$33-1),TRUNC((B$32-YEAR($B22)-$B$34+$B$33-1)/$B$33)),0),$B$35) -> 0 | F22: =MIN(IF(C$32-YEAR($B22)>=$B$34,IF(MOD(C$32-YEAR($B22)-$B$34+$B$33,$B$33)=0,(12-MONTH($B22)+1)/12+((C$32-YEAR($B22)-$B$34+$B$33)/$B$33-1),TRUNC((C$32-YEAR($B22)-$B$34+$B$33-1)/$B$33)),0),$B$35) -> 0 | G22: =MIN(IF(D$32-YEAR($B22)>=$B$34,IF(MOD(D$32-YEAR($B22)-$B$34+$B$33,$B$33)=0,(12-MONTH($B22)+1)/12+((D$32-YEAR($B22)-$B$34+$B$33)/$B$33-1),TRUNC((D$32-YEAR($B22)-$B$34+$B$33-1)/$B$33)),0),$B$35) -> 0 | H22: =MIN(IF(E$32-YEAR($B22)>=$B$34,IF(MOD(E$32-YEAR($B22)-$B$34+$B$33,$B$33)=0,(12-MONTH($B22)+1)/12+((E$32-YEAR($B22)-$B$34+$B$33)/$B$33-1),TRUNC((E$32-YEAR($B22)-$B$34+$B$33-1)/$B$33)),0),$B$35) -> 0 | I22: =MIN(IF(F$32-YEAR($B22)>=$B$34,IF(MOD(F$32-YEAR($B22)-$B$34+$B$33,$B$33)=0,(12-MONTH($B22)+1)/12+((F$32-YEAR($B22)-$B$34+$B$33)/$B$33-1),TRUNC((F$32-YEAR($B22)-$B$34+$B$33-1)/$B$33)),0),$B$35) -> 0 | J22: =MIN(IF(G$32-YEAR($B22)>=$B$34,IF(MOD(G$32-YEAR($B22)-$B$34+$B$33,$B$33)=0,(12-MONTH($B22)+1)/12+((G$32-YEAR($B22)-$B$34+$B$33)/$B$33-1),TRUNC((G$32-YEAR($B22)-$B$34+$B$33-1)/$B$33)),0),$B$35) -> 0 | K22: =MIN(IF(H$32-YEAR($B22)>=$B$34,IF(MOD(H$32-YEAR($B22)-$B$34+$B$33,$B$33)=0,(12-MONTH($B22)+1)/12+((H$32-YEAR($B22)-$B$34+$B$33)/$B$33-1),TRUNC((H$32-YEAR($B22)-$B$34+$B$33-1)/$B$33)),0),$B$35) -> 0 | L22: =MIN(IF(I$32-YEAR($B22)>=$B$34,IF(MOD(I$32-YEAR($B22)-$B$34+$B$33,$B$33)=0,(12-MONTH($B22)+1)/12+((I$32-YEAR($B22)-$B$34+$B$33)/$B$33-1),TRUNC((I$32-YEAR($B22)-$B$34+$B$33-1)/$B$33)),0),$B$35) -> 0.58333333 | ... N22: =MIN(IF(K$32-YEAR($B22)>=$B$34,IF(MOD(K$32-YEAR($B22)-$B$34+$B$33,$B$33)=0,(12-MONTH($B22)+1)/12+((K$32-YEAR($B22)-$B$34+$B$33)/$B$33-1),TRUNC((K$32-YEAR($B22)-$B$34+$B$33-1)/$B$33)),0),$B$35) -> 1.5833333 | P22: =VLOOKUP(C22,parametri!$A$2:$B$10,2,FALSE) -> 17.3 | Q22: =P22*N22 -> 27.391667
B23: 46174 | C23: C1 | E23: =MIN(IF(B$32-YEAR($B23)>=$B$34,IF(MOD(B$32-YEAR($B23)-$B$34+$B$33,$B$33)=0,(12-MONTH($B23)+1)/12+((B$32-YEAR($B23)-$B$34+$B$33)/$B$33-1),TRUNC((B$32-YEAR($B23)-$B$34+$B$33-1)/$B$33)),0),$B$35) -> 0 | F23: =MIN(IF(C$32-YEAR($B23)>=$B$34,IF(MOD(C$32-YEAR($B23)-$B$34+$B$33,$B$33)=0,(12-MONTH($B23)+1)/12+((C$32-YEAR($B23)-$B$34+$B$33)/$B$33-1),TRUNC((C$32-YEAR($B23)-$B$34+$B$33-1)/$B$33)),0),$B$35) -> 0 | G23: =MIN(IF(D$32-YEAR($B23)>=$B$34,IF(MOD(D$32-YEAR($B23)-$B$34+$B$33,$B$33)=0,(12-MONTH($B23)+1)/12+((D$32-YEAR($B23)-$B$34+$B$33)/$B$33-1),TRUNC((D$32-YEAR($B23)-$B$34+$B$33-1)/$B$33)),0),$B$35) -> 0 | H23: =MIN(IF(E$32-YEAR($B23)>=$B$34,IF(MOD(E$32-YEAR($B23)-$B$34+$B$33,$B$33)=0,(12-MONTH($B23)+1)/12+((E$32-YEAR($B23)-$B$34+$B$33)/$B$33-1),TRUNC((E$32-YEAR($B23)-$B$34+$B$33-1)/$B$33)),0),$B$35) -> 0 | I23: =MIN(IF(F$32-YEAR($B23)>=$B$34,IF(MOD(F$32-YEAR($B23)-$B$34+$B$33,$B$33)=0,(12-MONTH($B23)+1)/12+((F$32-YEAR($B23)-$B$34+$B$33)/$B$33-1),TRUNC((F$32-YEAR($B23)-$B$34+$B$33-1)/$B$33)),0),$B$35) -> 0 | J23: =MIN(IF(G$32-YEAR($B23)>=$B$34,IF(MOD(G$32-YEAR($B23)-$B$34+$B$33,$B$33)=0,(12-MONTH($B23)+1)/12+((G$32-YEAR($B23)-$B$34+$B$33)/$B$33-1),TRUNC((G$32-YEAR($B23)-$B$34+$B$33-1)/$B$33)),0),$B$35) -> 0 | K23: =MIN(IF(H$32-YEAR($B23)>=$B$34,IF(MOD(H$32-YEAR($B23)-$B$34+$B$33,$B$33)=0,(12-MONTH($B23)+1)/12+((H$32-YEAR($B23)-$B$34+$B$33)/$B$33-1),TRUNC((H$32-YEAR($B23)-$B$34+$B$33-1)/$B$33)),0),$B$35) -> 0 | L23: =MIN(IF(I$32-YEAR($B23)>=$B$34,IF(MOD(I$32-YEAR($B23)-$B$34+$B$33,$B$33)=0,(12-MONTH($B23)+1)/12+((I$32-YEAR($B23)-$B$34+$B$33)/$B$33-1),TRUNC((I$32-YEAR($B23)-$B$34+$B$33-1)/$B$33)),0),$B$35) -> 0 | ... N23: =MIN(IF(K$32-YEAR($B23)>=$B$34,IF(MOD(K$32-YEAR($B23)-$B$34+$B$33,$B$33)=0,(12-MONTH($B23)+1)/12+((K$32-YEAR($B23)-$B$34+$B$33)/$B$33-1),TRUNC((K$32-YEAR($B23)-$B$34+$B$33-1)/$B$33)),0),$B$35) -> 1 | P23: =VLOOKUP(C23,parametri!$A$2:$B$10,2,FALSE) -> 18.4 | Q23: =P23*N23 -> 18.4
B24: 46539 | C24: C2 | E24: =MIN(IF(B$32-YEAR($B24)>=$B$34,IF(MOD(B$32-YEAR($B24)-$B$34+$B$33,$B$33)=0,(12-MONTH($B24)+1)/12+((B$32-YEAR($B24)-$B$34+$B$33)/$B$33-1),TRUNC((B$32-YEAR($B24)-$B$34+$B$33-1)/$B$33)),0),$B$35) -> 0 | F24: =MIN(IF(C$32-YEAR($B24)>=$B$34,IF(MOD(C$32-YEAR($B24)-$B$34+$B$33,$B$33)=0,(12-MONTH($B24)+1)/12+((C$32-YEAR($B24)-$B$34+$B$33)/$B$33-1),TRUNC((C$32-YEAR($B24)-$B$34+$B$33-1)/$B$33)),0),$B$35) -> 0 | G24: =MIN(IF(D$32-YEAR($B24)>=$B$34,IF(MOD(D$32-YEAR($B24)-$B$34+$B$33,$B$33)=0,(12-MONTH($B24)+1)/12+((D$32-YEAR($B24)-$B$34+$B$33)/$B$33-1),TRUNC((D$32-YEAR($B24)-$B$34+$B$33-1)/$B$33)),0),$B$35) -> 0 | H24: =MIN(IF(E$32-YEAR($B24)>=$B$34,IF(MOD(E$32-YEAR($B24)-$B$34+$B$33,$B$33)=0,(12-MONTH($B24)+1)/12+((E$32-YEAR($B24)-$B$34+$B$33)/$B$33-1),TRUNC((E$32-YEAR($B24)-$B$34+$B$33-1)/$B$33)),0),$B$35) -> 0 | I24: =MIN(IF(F$32-YEAR($B24)>=$B$34,IF(MOD(F$32-YEAR($B24)-$B$34+$B$33,$B$33)=0,(12-MONTH($B24)+1)/12+((F$32-YEAR($B24)-$B$34+$B$33)/$B$33-1),TRUNC((F$32-YEAR($B24)-$B$34+$B$33-1)/$B$33)),0),$B$35) -> 0 | J24: =MIN(IF(G$32-YEAR($B24)>=$B$34,IF(MOD(G$32-YEAR($B24)-$B$34+$B$33,$B$33)=0,(12-MONTH($B24)+1)/12+((G$32-YEAR($B24)-$B$34+$B$33)/$B$33-1),TRUNC((G$32-YEAR($B24)-$B$34+$B$33-1)/$B$33)),0),$B$35) -> 0 | K24: =MIN(IF(H$32-YEAR($B24)>=$B$34,IF(MOD(H$32-YEAR($B24)-$B$34+$B$33,$B$33)=0,(12-MONTH($B24)+1)/12+((H$32-YEAR($B24)-$B$34+$B$33)/$B$33-1),TRUNC((H$32-YEAR($B24)-$B$34+$B$33-1)/$B$33)),0),$B$35) -> 0 | L24: =MIN(IF(I$32-YEAR($B24)>=$B$34,IF(MOD(I$32-YEAR($B24)-$B$34+$B$33,$B$33)=0,(12-MONTH($B24)+1)/12+((I$32-YEAR($B24)-$B$34+$B$33)/$B$33-1),TRUNC((I$32-YEAR($B24)-$B$34+$B$33-1)/$B$33)),0),$B$35) -> 0 | ... N24: =MIN(IF(K$32-YEAR($B24)>=$B$34,IF(MOD(K$32-YEAR($B24)-$B$34+$B$33,$B$33)=0,(12-MONTH($B24)+1)/12+((K$32-YEAR($B24)-$B$34+$B$33)/$B$33-1),TRUNC((K$32-YEAR($B24)-$B$34+$B$33-1)/$B$33)),0),$B$35) -> 0.58333333 | P24: =VLOOKUP(C24,parametri!$A$2:$B$10,2,FALSE) -> 19.5 | Q24: =P24*N24 -> 11.375
... B26: 47270 | C26: D1 | E26: =MIN(IF(B$32-YEAR($B26)>=$B$34,IF(MOD(B$32-YEAR($B26)-$B$34+$B$33,$B$33)=0,(12-MONTH($B26)+1)/12+((B$32-YEAR($B26)-$B$34+$B$33)/$B$33-1),TRUNC((B$32-YEAR($B26)-$B$34+$B$33-1)/$B$33)),0),$B$35) -> 0 | F26: =MIN(IF(C$32-YEAR($B26)>=$B$34,IF(MOD(C$32-YEAR($B26)-$B$34+$B$33,$B$33)=0,(12-MONTH($B26)+1)/12+((C$32-YEAR($B26)-$B$34+$B$33)/$B$33-1),TRUNC((C$32-YEAR($B26)-$B$34+$B$33-1)/$B$33)),0),$B$35) -> 0 | G26: =MIN(IF(D$32-YEAR($B26)>=$B$34,IF(MOD(D$32-YEAR($B26)-$B$34+$B$33,$B$33)=0,(12-MONTH($B26)+1)/12+((D$32-YEAR($B26)-$B$34+$B$33)/$B$33-1),TRUNC((D$32-YEAR($B26)-$B$34+$B$33-1)/$B$33)),0),$B$35) -> 0 | H26: =MIN(IF(E$32-YEAR($B26)>=$B$34,IF(MOD(E$32-YEAR($B26)-$B$34+$B$33,$B$33)=0,(12-MONTH($B26)+1)/12+((E$32-YEAR($B26)-$B$34+$B$33)/$B$33-1),TRUNC((E$32-YEAR($B26)-$B$34+$B$33-1)/$B$33)),0),$B$35) -> 0 | I26: =MIN(IF(F$32-YEAR($B26)>=$B$34,IF(MOD(F$32-YEAR($B26)-$B$34+$B$33,$B$33)=0,(12-MONTH($B26)+1)/12+((F$32-YEAR($B26)-$B$34+$B$33)/$B$33-1),TRUNC((F$32-YEAR($B26)-$B$34+$B$33-1)/$B$33)),0),$B$35) -> 0 | J26: =MIN(IF(G$32-YEAR($B26)>=$B$34,IF(MOD(G$32-YEAR($B26)-$B$34+$B$33,$B$33)=0,(12-MONTH($B26)+1)/12+((G$32-YEAR($B26)-$B$34+$B$33)/$B$33-1),TRUNC((G$32-YEAR($B26)-$B$34+$B$33-1)/$B$33)),0),$B$35) -> 0 | K26: =MIN(IF(H$32-YEAR($B26)>=$B$34,IF(MOD(H$32-YEAR($B26)-$B$34+$B$33,$B$33)=0,(12-MONTH($B26)+1)/12+((H$32-YEAR($B26)-$B$34+$B$33)/$B$33-1),TRUNC((H$32-YEAR($B26)-$B$34+$B$33-1)/$B$33)),0),$B$35) -> 0 | L26: =MIN(IF(I$32-YEAR($B26)>=$B$34,IF(MOD(I$32-YEAR($B26)-$B$34+$B$33,$B$33)=0,(12-MONTH($B26)+1)/12+((I$32-YEAR($B26)-$B$34+$B$33)/$B$33-1),TRUNC((I$32-YEAR($B26)-$B$34+$B$33-1)/$B$33)),0),$B$35) -> 0 | ... N26: =MIN(IF(K$32-YEAR($B26)>=$B$34,IF(MOD(K$32-YEAR($B26)-$B$34+$B$33,$B$33)=0,(12-MONTH($B26)+1)/12+((K$32-YEAR($B26)-$B$34+$B$33)/$B$33-1),TRUNC((K$32-YEAR($B26)-$B$34+$B$33-1)/$B$33)),0),$B$35) -> 0 | P26: =VLOOKUP(C26,parametri!$A$2:$B$10,2,FALSE) -> 21.7 | Q26: =P26*N26 -> 0
A28: FINE TABELLA ESEMPIO
A31: PARAMETRI:
A32: ANNO IN ESAME | B32: 2020 | C32: =B32+1 -> 2021 | D32: =C32+1 -> 2022 | E32: =D32+1 -> 2023 | F32: =E32+1 -> 2024 | G32: =F32+1 -> 2025 | H32: =G32+1 -> 2026 | I32: =H32+1 -> 2027 | J32: =I32+1 -> 2028 | K32: =J32+1 -> 2029
A33: PERIODICITA' SCATTI (N) | B33: 2
A34: ANNO PRIMO SCATTO ANZIANITA' (M) | B34: 2
A35: N. MASSIMO SCATTI (K) | B35: 5
A37: Es. parametri contratto nazionale Coop. Sociali -> 2 periodicità - 2 primo scatto - n. massimo scatti = 5
A38: Es. parametri contratto naz. UNEBA (2013) -> 3 periodicità - 6 primo scatto (assunzioni dal 2013 in poi) - n. massimo scatti = 10

Sheet parametri
A1: LIVELLO | B1: IMPORTO ASSEGNO
A2: B2 | B2: 16.2
A3: B3 | B3: 17.3
A4: C1 | B4: 18.4
A5: C2 | B5: 19.5
A6: C3 | B6: 20.6
A7: D1 | B7: 21.7
A8: D2 | B8: 22.8
A9: D3 | B9: 23.9
A10: FE | B10: 25
